BEGIN:VCALENDAR
VERSION:2.0
METHOD:PUBLISH
BEGIN:VEVENT
UID:WILD_APRICOT_EVENT_2623900_SESSION_1
DTSTART:20170824T033000Z
DTEND:20170824T073000Z
SUMMARY:Canberra Guided Tour: ANSA Preconference\, Thursday 24/8/17
LOCATION:Departs Hotel Kurrajong
DESCRIPTION:https://appliedneuroscience.org.au/event-2623900\n\nCanberra Guided Tour\n  1.30pm - 5.30pm\, Thursday 24th August 2018\n  Departing from & returning to Hotel Kurrajong\n  $60 per person\n   \n  Join us for a brief sight-seeing tour around the national capital including: Weston Park (kangaroos)\, the Arboretum\, Academy of Science\, Sound Archive\, Australian National University and the closing ceremony of the War Memorial of Australia.  \n   \n  LIMITED SEATS AVAILABLE. Register ASAP. \n   \n
DTSTAMP:20260424T163131Z
END:VEVENT
END:VCALENDAR
